BEGIN:VCALENDAR
VERSION:2.0
PRODID:gruene-mh.de
METHOD:PUBLISH
BEGIN:VTIMEZONE
TZID:Europe/Berlin
X-LIC-LOCATION:Europe/Berlin
BEGIN:DAYLIGHT
TZOFFSETFROM:+0100
TZOFFSETTO:+0200
TZNAME:CEST
DTSTART:19700329T020000
RRULE:FREQ=YEARLY;INTERVAL=1;BYDAY=-1SU;BYMONTH=3
END:DAYLIGHT
BEGIN:STANDARD
TZOFFSETFROM:+0200
TZOFFSETTO:+0100
TZNAME:CET
DTSTART:19701025T030000
RRULE:FREQ=YEARLY;INTERVAL=1;BYDAY=-1SU;BYMONTH=10
END:STANDARD
END:VTIMEZONE
BEGIN:VEVENT
UID:3c5a62787f15102083ad57d7fd5e610a@gruene-mh.de
URL;VALUE=URI:https://gruene-mh.de/termine/vorstandssitzung-5/
LOCATION:
SUMMARY:Vorstandssitzung
DESCRIPTION;ALTREP="data:text/html,%0A%3Cp%3EDer%20Kreisvorstand%20tagt%2
 0bis%20auf%20in%20den%20Ferienzeiten%20einmal%20die%20Woche.%20In%20den%2
 0%C3%B6ffentlichen%20Sitzungen%20werden%20Veranstaltungen%20wie%20z.B.%20
 Mitgliederversammlungen%2C%20geplant%20und%20der%20Parteialltag%20geregel
 t.%20Gem%C3%A4%C3%9F%20Satzung%20ist%20der%20Kreisvorstand%20ebenfalls%20
 f%C3%BCr%20die%20Planung%20von%20Wahlk%C3%A4mpfen%20verantwortlich.%20Neb
 en%20dem%20%C3%B6ffentlichen%20Teil%20der%20Sitzung%20gibt%20es%20auch%20
 interne%20Tagesordnungspunkte%2C%20unter%20denen%20z.B.%20Finanzfragen%20
 diskutiert%20werden.%20Um%20als%20Gast%20an%20einer%20Vorstandssitzung%20
 teilzunehmen%20ist%20eine%20Anmeldung%20%C3%BCber%C2%A0%3Ca%20href%3D%22h
 ttps%3A%2F%2Fgruene-mh.de%2Ftermine%2Fvorstandssitzung-10%2F%23%22%3Evors
 tand%40gruene-mh.de%3C%2Fa%3E%C2%A0n%C3%B6tig.%3C%2Fp%3E%0A":Der Kreisvor
 stand tagt bis auf in den Ferienzeiten einmal die Woche. In den öffentli
 chen Sitzungen werden Veranstaltungen wie z.B. Mitgliederversammlungen\, 
 geplant und der Parteialltag geregelt. Gemäß Satzung ist der Kreisvorst
 and ebenfalls für die Planung von Wahlkämpfen verantwortlich. Neben dem
  öffentlichen Teil der Sitzung gibt es auch interne Tagesordnungspunkte\
 , unter denen z.B. Finanzfragen diskutiert werden. Um als Gast an einer V
 orstandssitzung teilzunehmen ist eine Anmeldung über vorstand@gruene-mh
 .de nötig.
CLASS:PUBLIC
DTSTART;TZID=Europe/Berlin:20250211T183000
DTEND;TZID=Europe/Berlin:20250211T220000
DTSTAMP:20260424T100434
END:VEVENT
END:VCALENDAR