BEGIN:VCALENDAR
VERSION:2.0
PRODID:gruene-mh.de
METHOD:PUBLISH
BEGIN:VTIMEZONE
TZID:Europe/Berlin
X-LIC-LOCATION:Europe/Berlin
BEGIN:DAYLIGHT
TZOFFSETFROM:+0100
TZOFFSETTO:+0200
TZNAME:CEST
DTSTART:19700329T020000
RRULE:FREQ=YEARLY;INTERVAL=1;BYDAY=-1SU;BYMONTH=3
END:DAYLIGHT
BEGIN:STANDARD
TZOFFSETFROM:+0200
TZOFFSETTO:+0100
TZNAME:CET
DTSTART:19701025T030000
RRULE:FREQ=YEARLY;INTERVAL=1;BYDAY=-1SU;BYMONTH=10
END:STANDARD
END:VTIMEZONE
BEGIN:VEVENT
UID:3f18a806d9544c430c20bc3b71fcabd7@gruene-mh.de
URL;VALUE=URI:https://gruene-mh.de/termine/vorstandssitzung-10/
LOCATION:Geschäftsstelle, Bahnstraße 50
SUMMARY:Mitgliederversammlung in der Geschäftsstelle
DESCRIPTION;ALTREP="data:text/html,%0A%3Cp%3EAm%2018.%20September%20finde
 t%20die%20n%C3%A4chste%20ordentliche%20Mitgliederversammlung%20des%20M%C3
 %BClheimer%20Kreisverbandes%20von%20B%C3%9CNDNIS%2090%2FDIE%20GR%C3%9CNEN
 %20statt.%20Mitglieder%20wurden%20fristgerecht%20zu%20der%20Versammlung%2
 0eingeladen.%20F%C3%BCr%20Fragen%20zur%20Mitgliederversammlung%20oder%20f
 alls%20du%20wider%20erwarten%20keine%20Einladung%20erhalten%20haben%20sol
 ltest%2C%20wende%20dich%20bitte%20an%C2%A0%3Ca%20href%3D%22https%3A%2F%2F
 gruene-mh.de%2Ftermine%2Fvorstandssitzung-10%2F%23%22%3Evorstand%40gruene
 -mh.de%3C%2Fa%3E.%3C%2Fp%3E%0A":Am 18. September findet die nächste orde
 ntliche Mitgliederversammlung des Mülheimer Kreisverbandes von BÜNDNIS 
 90/DIE GRÜNEN statt. Mitglieder wurden fristgerecht zu der Versammlung e
 ingeladen. Für Fragen zur Mitgliederversammlung oder falls du wider erwa
 rten keine Einladung erhalten haben solltest\, wende dich bitte an vorst
 and@gruene-mh.de.
CLASS:PUBLIC
DTSTART;TZID=Europe/Berlin:20230918T183000
DTEND;TZID=Europe/Berlin:20230918T220000
DTSTAMP:20260424T114920
END:VEVENT
END:VCALENDAR