BEGIN:VCALENDAR
VERSION:2.0
PRODID:gruene-mh.de
METHOD:PUBLISH
BEGIN:VTIMEZONE
TZID:Europe/Berlin
X-LIC-LOCATION:Europe/Berlin
BEGIN:DAYLIGHT
TZOFFSETFROM:+0100
TZOFFSETTO:+0200
TZNAME:CEST
DTSTART:19700329T020000
RRULE:FREQ=YEARLY;INTERVAL=1;BYDAY=-1SU;BYMONTH=3
END:DAYLIGHT
BEGIN:STANDARD
TZOFFSETFROM:+0200
TZOFFSETTO:+0100
TZNAME:CET
DTSTART:19701025T030000
RRULE:FREQ=YEARLY;INTERVAL=1;BYDAY=-1SU;BYMONTH=10
END:STANDARD
END:VTIMEZONE
BEGIN:VEVENT
UID:23e2ac35f4ce308bacae67a9b23354c1@gruene-mh.de
URL;VALUE=URI:https://gruene-mh.de/termine/ruhrparteitag/
LOCATION:LVR-Industriemuseum, Zinkfabrik Altenberg, Oberhausen
SUMMARY:Ruhrparteitag (Teil-LDK)
DESCRIPTION;ALTREP="data:text/html,":
CLASS:PUBLIC
DTSTART;TZID=Europe/Berlin:20250315T100000
DTEND;TZID=Europe/Berlin:20250315T180000
DTSTAMP:20260425T111843
END:VEVENT
END:VCALENDAR