BEGIN:VCALENDAR
VERSION:2.0
PRODID:gruene-mh.de
METHOD:PUBLISH
BEGIN:VTIMEZONE
TZID:Europe/Berlin
X-LIC-LOCATION:Europe/Berlin
BEGIN:DAYLIGHT
TZOFFSETFROM:+0100
TZOFFSETTO:+0200
TZNAME:CEST
DTSTART:19700329T020000
RRULE:FREQ=YEARLY;INTERVAL=1;BYDAY=-1SU;BYMONTH=3
END:DAYLIGHT
BEGIN:STANDARD
TZOFFSETFROM:+0200
TZOFFSETTO:+0100
TZNAME:CET
DTSTART:19701025T030000
RRULE:FREQ=YEARLY;INTERVAL=1;BYDAY=-1SU;BYMONTH=10
END:STANDARD
END:VTIMEZONE
BEGIN:VEVENT
UID:05b3d9723f67f2e662adf629c29a4648@gruene-mh.de
URL;VALUE=URI:https://gruene-mh.de/termine/ruhrparlament-fahrrad-sternfah
 rt-zum-wahlkampf/
LOCATION:
SUMMARY:Fahrrad-Sternfahrt zum Grünen Revier-Fest
DESCRIPTION;ALTREP="data:text/html,%0A%3Cp%3EDie%20M%C3%BClheimer%20GR%C3
 %9CNEN%20treffen%20sich%20gegen%2014%20Uhr%20und%20erwarten%20die%20Teiln
 ehmenden%20aus%20Duisburg%20%28und%20anderen%20St%C3%A4dten%29%20um%2014%
 3A15%20Uhr%20zu%20einer%20kleinen%20Erfrischung%20auf%20dem%20Dieter-aus-
 dem-Siepen-Platz%20-%20direkt%20vor%20dem%20M%C3%BClheimer%20Hauptbahnhof
 .%20Hier%20befindet%20sich%20auch%20die%20Radstation%2C%20falls%20eine%20
 Pannenhilfe%20erforderlich%20sein%20sollte.%20%3C%2Fp%3E%0A%0A%0A%0A%3Cp%
 3EP%C3%BCnktlich%20um%2014%3A30%20Uhr%20geht%20es%20gemeinsam%20auf%20dem
 %20RS1%20weiter%20nach%20Essen%2C%20wo%20wir%20gegen%2015%20Uhr%20am%20Ni
 ederfeldsee%20am%20Caf%C3%A9%20Radmosph%C3%A4re%20erwartet%20werden.%20Do
 rt%20freuen%20wir%20uns%20auf%20ein%20h%C3%BCbsches%20Fest%20und%20spanne
 nde%20Reden%20von%20bekannten%20Gr%C3%BCnen%20Pers%C3%B6nlichkeiten.%20Ei
 ne%20gemeinsame%20R%C3%BCckfahrt%20%C3%BCber%20den%20RS1%20nach%20M%C3%BC
 lheim%20ist%20angedacht.%20%3C%2Fp%3E%0A%0A%0A%0A%3Cp%3E%3C%2Fp%3E%0A":Di
 e Mülheimer GRÜNEN treffen sich gegen 14 Uhr und erwarten die Teilnehme
 nden aus Duisburg (und anderen Städten) um 14:15 Uhr zu einer kleinen Er
 frischung auf dem Dieter-aus-dem-Siepen-Platz - direkt vor dem Mülheimer
  Hauptbahnhof. Hier befindet sich auch die Radstation\, falls eine Pannen
 hilfe erforderlich sein sollte.\n\nPünktlich um 14:30 Uhr geht es gemein
 sam auf dem RS1 weiter nach Essen\, wo wir gegen 15 Uhr am Niederfeldsee 
 am Café Radmosphäre erwartet werden. Dort freuen wir uns auf ein hübsc
 hes Fest und spannende Reden von bekannten Grünen Persönlichkeiten. Ein
 e gemeinsame Rückfahrt über den RS1 nach Mülheim ist angedacht.
CLASS:PUBLIC
DTSTART;TZID=Europe/Berlin:20250830T140000
DTEND;TZID=Europe/Berlin:20250830T170000
DTSTAMP:20260420T193619
END:VEVENT
END:VCALENDAR