BEGIN:VCALENDAR
VERSION:2.0
PRODID:gruene-mh.de
METHOD:PUBLISH
BEGIN:VTIMEZONE
TZID:Europe/Berlin
X-LIC-LOCATION:Europe/Berlin
BEGIN:DAYLIGHT
TZOFFSETFROM:+0100
TZOFFSETTO:+0200
TZNAME:CEST
DTSTART:19700329T020000
RRULE:FREQ=YEARLY;INTERVAL=1;BYDAY=-1SU;BYMONTH=3
END:DAYLIGHT
BEGIN:STANDARD
TZOFFSETFROM:+0200
TZOFFSETTO:+0100
TZNAME:CET
DTSTART:19701025T030000
RRULE:FREQ=YEARLY;INTERVAL=1;BYDAY=-1SU;BYMONTH=10
END:STANDARD
END:VTIMEZONE
BEGIN:VEVENT
UID:fa2a6040771e6af054b867c9cb6ebbf1@gruene-mh.de
URL;VALUE=URI:https://gruene-mh.de/termine/gruene-runde-im-clique-wine-co
 ffee/
LOCATION:clique - wine & coffee, Löhberg 76, Mülheim
SUMMARY:GRÜNE Runde im clique – wine & coffee
DESCRIPTION;ALTREP="data:text/html,%0A%3Cp%3EDie%20erste%20GR%C3%9CNE%20R
 unde%20im%20neuen%20Jahr%20f%C3%BChrt%20uns%20ins%20clique%2C%20L%C3%B6hb
 erg%2076%2C%20in%20der%20Innenstadt.%20Kommt%20gern%20vorbei%21%3C%2Fp%3E
 %0A":Die erste GRÜNE Runde im neuen Jahr führt uns ins clique\, Löhber
 g 76\, in der Innenstadt. Kommt gern vorbei!
CLASS:PUBLIC
DTSTART;TZID=Europe/Berlin:20260124T190000
DTEND;TZID=Europe/Berlin:20260124T210000
DTSTAMP:20260421T100446
END:VEVENT
END:VCALENDAR